Workbook

Sheet جلد
A22: =C31 -> ‫صندوق سرمایه گذاری سهامی اهرمی شتاب آگاه
A23: صورت وضعیت پرتفوی
A24: =C33 -> ‫برای ماه منتهی به 1405/06/31
C31: ‫صندوق سرمایه گذاری سهامی اهرمی شتاب آگاه
C32: صورت وضعیت درآمد ها
C33: ‫برای ماه منتهی به 1405/06/31
B34: 1405/05/31 | C34: 1405/06/31
C35: طی شهریور ماه 1405 | D35: از ابتدای سال مالی تا پایان شهریور ماه 1405

Sheet سرمایه گذاری ها
A1: =سپرده!A1 -> ‫صندوق سرمایه گذاری سهامی اهرمی شتاب آگاه
A2: =سپرده!A2 -> صورت وضعیت پرتفوی
A3: =سپرده!A3 -> ‫برای ماه منتهی به 1405/06/31
A6: 1- سرمایه گذاری ها
E7: =جلد!B34 -> 1405/05/31 | G7: =جلد!C34 -> 1405/06/31 | I7: نسبت به کل دارایی ها
A8: شرح | C8: یادداشت | E8: مبلغ-ریال | G8: مبلغ-ریال | I8: درصد
A10: سرمایه گذاری در سهام و حق تقدم سهام و صندوق های سرمایه گذاری | C10: 1-1 | E10: =' سهام'!H146 -> 91133373195147 | G10: =' سهام'!X146 -> 103520842337245 | I10: =G10/$J$22*100 -> 90.918655
A11: سرمایه گذاری در گواهی سپرده کالایی | C11: 1-2 | E11: ='سپرده کالایی'!H16 -> 6.4148596e+12 | G11: ='سپرده کالایی'!X16 -> 7.3502441e+12 | I11: =G11/$J$22*100 -> 6.4554567
A12: سرمایه گذاری در سپرده های بانکی | C12: 1-3 | E12: =سپرده!C17 -> 4723861106379 | G12: =سپرده!I17 -> 169705766672 | I12: =G12/$J$22*100 -> 0.14904651
E13: =SUM(E10:E12) -> 1.0227209e+14 | G13: =SUM(G10:G12) -> 1.1104079e+14 | I13: =SUM(I10:I12) -> 97.523158 | J13: 111040792225603
J14: 102272093924506
E20: 91133373195147 | G20: 103520842337245
E21: 6.4148596e+12 | G21: 7.3502441e+12
E22: 4723861106379 | G22: 169705766672 | J22: 113860947719175
E23: =SUM(E20:E22) -> 1.0227209e+14 | G23: =SUM(G20:G22) -> 1.1104079e+14
E24: =E13-E23 -> 0 | G24: =G13-G23 -> 0
E25: =E13-J14 -> 0.453125 | G25: =G23-J13 -> -0.421875

Sheet  سهام
B1: =جلد!A22 -> ‫صندوق سرمایه گذاری سهامی اهرمی شتاب آگاه
B2: صورت وضعیت پرتفوی
B3: =جلد!A24 -> ‫برای ماه منتهی به 1405/06/31
B6: 1-1-سرمایه‌گذاری در سهام و حق تقدم سهام
D8: ='سرمایه گذاری ها'!E7 -> 1405/05/31 | E8: 1402/12/29 | F8: 1402/12/29 | G8: 1402/12/29 | H8: 1402/12/29 | J8: تغییرات طی دوره | R8: ='سرمایه گذاری ها'!G7 -> 1405/06/31
B9: شرکت | D9: تعداد | F9: بهای تمام شده | H9: خالص ارزش فروش | J9: خرید طی دوره | N9: فروش /سررسید طی دوره | R9: تعداد | T9: قیمت بازار هر سهم | V9: بهای تمام شده | X9: خالص ارزش فروش | Z9: درصد به کل دارایی‌ها
J10: تعداد | L10: بهای تمام شده | N10: تعداد | P10: مبلغ فروش | AB10: 113860947719175 | AC10: کل دارایی
F11: ریال | H11: ریال | L11: ریال | P11: ریال | V11: ریال | X11: ریال
B12: آلومینیوم‌ایران‌ | D12: 58518816 | F12: 353942137486 | H12: 852996378964 | J12: 0 | L12: 0 | N12: -5700000 | P12: 81841066363 | R12: 52818816 | T12: 14500 | V12: 319466556397 | X12: 759952635009 | Z12: =X12/$AB$10*100 -> 0.66743923 | AB12: =D12+J12+N12-R12 -> 0
B13: آکو باتری ایرانیان | D13: 305 | F13: 10071627 | H13: 10265629 | J13: 0 | L13: 0 | N13: -305 | P13: 12302417 | R13: 0 | T13: 0 | V13: 0 | X13: 0 | Z13: =X13/$AB$10*100 -> 0 | AB13: =D13+J13+N13-R13 -> 0
B14: احیا استیل فولاد بافت | D14: 3000000 | F14: 10016413560 | H14: 12413297700 | J14: 0 | L14: 0 | N14: 0 | P14: 0 | R14: 3000000 | T14: 4700 | V14: 10016413560 | X14: 13991007000 | Z14: =X14/$AB$10*100 -> 0.012287801 | AB14: =D14+J14+N14-R14 -> 0
B15: اقتصادی و خودکفایی آزادگان | D15: 19071546 | F15: 232570221915 | H15: 263613032685 | J15: 300000 | L15: 4175009591 | N15: 0 | P15: 0 | R15: 19371546 | T15: 14110 | V15: 236745231506 | X15: 271219653726 | Z15: =X15/$AB$10*100 -> 0.23820253 | AB15: =D15+J15+N15-R15 -> 0
B16: ایران‌ ترانسفو | D16: 39021634 | F16: 91995723773 | H16: 120419189952 | J16: 0 | L16: 0 | N16: 0 | P16: 0 | R16: 39021634 | T16: 3550 | V16: 91995723773 | X16: 137455988531 | Z16: =X16/$AB$10*100 -> 0.12072268 | AB16: =D16+J16+N16-R16 -> 0
B17: ایران‌ خودرو | D17: 1475296659 | F17: 853993559540 | H17: 947138522439 | J17: 672832000 | L17: 338927529541 | N17: -48000000 | P17: 31720887466 | R17: 2100128659 | T17: 666 | V17: 1292899486622 | X17: 1387873846534 | Z17: =X17/$AB$10*100 -> 1.21892 | AB17: =D17+J17+N17-R17 -> 0
B18: بانک تجارت | D18: 191600000 | F18: 123704670234 | H18: 161601092200 | J18: 133266000 | L18: 77732529057 | N18: 0 | P18: 0 | R18: 324866000 | T18: 866 | V18: 252517877006 | X18: 279159244520 | Z18: =X18/$AB$10*100 -> 0.24517558 | AB18: =D18+J18+N18-R18 -> 0
B19: بانک خاورمیانه | D19: 104960882 | F19: 300108400549 | H19: 656142066607 | J19: 0 | L19: 0 | N19: 0 | P19: 0 | R19: 104960882 | T19: 6100 | V19: 300108400549 | X19: 635312159731 | Z19: =X19/$AB$10*100 -> 0.55797196 | AB19: =D19+J19+N19-R19 -> 0
B20: بانک سامان | D20: 51168928 | F20: 148683878339 | H20: 418880485539 | J20: 0 | L20: 0 | N20: -7520000 | P20: 60689630022 | R20: 43648928 | T20: 8470 | V20: 126832672761 | X20: 366848589532 | Z20: =X20/$AB$10*100 -> 0.32219 | AB20: =D20+J20+N20-R20 -> 0
B21: بانک سینا | D21: 52589139 | F21: 98603254329 | H21: 169071704856 | J21: 0 | L21: 0 | N21: 0 | P21: 0 | R21: 52589139 | T21: 3210 | V21: 98603254329 | X21: 167506226107 | Z21: =X21/$AB$10*100 -> 0.14711473 | AB21: =D21+J21+N21-R21 -> 0
B22: بانک ملت | D22: 1166472425 | F22: 1114771454740 | H22: 1584556707029 | J22: 71084000 | L22: 81329084467 | N22: -76264000 | P22: 112112618741 | R22: 1161292425 | T22: 1439 | V22: 1143622874388 | X22: 1658182198124 | Z22: =X22/$AB$10*100 -> 1.4563221 | AB22: =D22+J22+N22-R22 -> 0
B23: بانک‌اقتصادنوین‌ | D23: 791258184 | F23: 1276621035994 | H23: 2661630560426 | J23: 84299065 | L23: 311967741297 | N23: -4 | P23: 4 | R23: 875557245 | T23: 3680 | V23: 1588588770680 | X23: 3197144209986 | Z23: =X23/$AB$10*100 -> 2.8079375 | AB23: =D23+J23+N23-R23 -> 0
... B115: کشت و دامداری فکا | D115: 43613098 | F115: 107116173387 | H115: 340149114394 | J115: 0 | L115: 0 | N115: 0 | P115: 0 | R115: 43613098 | T115: 7980 | V115: 107116173387 | X115: 345342230645 | Z115: =X115/$AB$10*100 -> 0.30330174 | AB115: =D115+J115+N115-R115 -> 0
B116: کشتیرانی دریای خزر | D116: 85596126 | F116: 471674852452 | H116: 569910279918 | J116: 3000000 | L116: 30139478406 | N116: 0 | P116: 0 | R116: 88596126 | T116: 10340 | V116: 501814330858 | X116: 909002613962 | Z116: =X116/$AB$10*100 -> 0.7983445
B117: پالایش نفت لاوان | D117: 0 | F117: 0 | H117: 0 | J117: 1950000 | L117: 104257223038 | N117: 0 | P117: 0 | R117: 1950000 | T117: 53040 | V117: 104257223038 | X117: 102628501560 | Z117: =X117/$AB$10*100 -> 0.090134944
B118: البرزدارو | D118: 0 | F118: 0 | H118: 0 | J118: 85287356 | L118: 1264633361056 | N118: 0 | P118: 0 | R118: 85287356 | T118: 15130 | V118: 1264633361056 | X118: 1280422922088 | Z118: =X118/$AB$10*100 -> 1.1245497
B119: شرکت ارتباطات سیار ایران | D119: 0 | F119: 0 | H119: 0 | J119: 65758991 | L119: 650103046527 | N119: 0 | P119: 0 | R119: 65758991 | T119: 9070 | V119: 650103046527 | X119: 591823613176 | Z119: =X119/$AB$10*100 -> 0.51977752
B120: سرمایه‌گذاری‌توکافولاد(هلدینگ | D120: 0 | F120: 0 | H120: 0 | J120: 130802173 | L120: 462380653756 | N120: 0 | P120: 0 | R120: 130802173 | T120: 3510 | V120: 462380653756 | X120: 455566663430 | Z120: =X120/$AB$10*100 -> 0.40010791
B121: اختیارخ فملی-26000-1405/07/08 | D121: 0 | F121: 0 | H121: 0 | J121: 876069 | L121: 6499689500 | N121: 0 | P121: 0 | R121: 876069 | T121: 5611 | V121: 6499689500 | X121: 4911899574 | Z121: =X121/$AB$10*100 -> 0.0043139458
B122: اختیارخ فملی-24000-1405/07/08 | D122: 0 | F122: 0 | H122: 0 | J122: 78147 | L122: 687528494 | N122: 0 | P122: 0 | R122: 78147 | T122: 7060 | V122: 687528494 | X122: 551299894 | Z122: =X122/$AB$10*100 -> 0.00048418699
B123: اختیارخ فملی-22000-1405/07/08 | D123: 0 | F123: 0 | H123: 0 | J123: 20565 | L123: 211979949 | N123: 0 | P123: 0 | R123: 20565 | T123: 8701 | V123: 211979949 | X123: 178800521 | Z123: =X123/$AB$10*100 -> 0.00015703411
B124: اختیارخ فملی-12000-1405/07/08 | D124: 0 | F124: 0 | H124: 0 | J124: 5484 | L124: 96048179 | N124: 0 | P124: 0 | R124: 5484 | T124: 15700 | V124: 96048179 | X124: 86033530 | Z124: =X124/$AB$10*100 -> 7.5560174e-05
B125: صنایع دامپروری و لبنی رضوی | D125: 0 | F125: 0 | H125: 0 | J125: 2610000 | L125: 26296344177 | N125: 0 | P125: 0 | R125: 2610000 | T125: 11380 | V125: 26296344177 | X125: 29472205086 | Z125: =X125/$AB$10*100 -> 0.025884384
B126: اختیارخ شپنا-9000-1405/06/18 | D126: 0 | F126: 0 | H126: 0 | J126: 11998000 | L126: 53046955599 | N126: 0 | P126: 0 | R126: 0 | T126: 0 | V126: 0 | X126: 0 | Z126: =X126/$AB$10*100 -> 0
B127: اختیارخ شپنا-12000-1405/06/18 | D127: 0 | F127: 0 | H127: 0 | J127: 9083000 | L127: 19241847622 | N127: -1922000 | P127: 5093300000 | R127: 0 | T127: 0 | V127: 0 | X127: 0 | Z127: =X127/$AB$10*100 -> 0
... B145: اختیارخ خودرو-600-1405/06/04 | D145: 0 | F145: 0 | H145: 0 | J145: 125492000 | L145: 12610729150 | N145: -109000 | P145: 12644000 | R145: 0 | T145: 0 | V145: 0 | X145: 0 | Z145: =X145/$AB$10*100 -> 0
F146: =SUM(F12:F145) -> 51411005123742 | H146: =SUM(H12:H145) -> 91133373195147 | L146: =SUM(L12:L145) -> 7549085181755 | P146: =SUM(P12:P145) -> 6491299038036 | V146: =SUM(V12:V145) -> 56136170305705 | X146: =SUM(X12:X145) -> 103520842337245 | Z146: =SUM(Z12:Z145) -> 90.918655
R149: =SUM(R12:S145) -> 13485485613

Sheet سپرده کالایی
B1: =جلد!A22 -> ‫صندوق سرمایه گذاری سهامی اهرمی شتاب آگاه
B2: صورت وضعیت پرتفوی
B3: =جلد!A24 -> ‫برای ماه منتهی به 1405/06/31
B5: 1-2-سرمایه گذاری در گواهی سپرده کالایی
D7: ='سرمایه گذاری ها'!E7 -> 1405/05/31 | E7: 1402/12/29 | F7: 1402/12/29 | G7: 1402/12/29 | H7: 1402/12/29 | J7: تغییرات طی دوره | R7: ='سرمایه گذاری ها'!G7 -> 1405/06/31
B8: شرکت | D8: تعداد | F8: بهای تمام شده | H8: خالص ارزش فروش | J8: خرید طی دوره | N8: فروش طی دوره | R8: تعداد | T8: قیمت بازار هر سهم | V8: بهای تمام شده | X8: خالص ارزش فروش | Z8: درصد به کل دارایی‌ها
J9: تعداد | L9: بهای تمام شده | N9: تعداد | P9: مبلغ فروش
F10: ریال | H10: ریال | L10: ریال | P10: ریال | V10: ریال | X10: ریال
B11: شمش روی ZincIngot | D11: 6219 | F11: 23040561779 | H11: 37162405656 | J11: 0 | L11: 0 | N11: 0 | P11: 0 | R11: 6219 | T11: 7000000 | V11: 23040561779 | X11: 43428520800 | Z11: =X11/'سرمایه گذاری ها'!$J$22*100 -> 0.038141717 | AA11: =D11+J11+N11-R11 -> 0 | AB11: =D11+J11+N11-R11 -> 0 | AC11: =R11*T11*0.9976-X11 -> 0
B12: شمش طلا GoldBar | D12: 192902 | F12: 1532581732205 | H12: 5388292985600 | J12: 0 | L12: 0 | N12: 0 | P12: 0 | R12: 192902 | T12: 31770000 | V12: 1532581732205 | X12: 6113788148302 | Z12: =X12/'سرمایه گذاری ها'!$J$22*100 -> 5.3695216 | AA12: =D12+J12+N12-R12 -> 0 | AB12: =D12+J12+N12-R12 -> 0 | AC12: =R12*T12*0.9976-X12 -> 2
B13: گندله سنگ آهن IronOrePlt | D13: 729706 | F13: 51777915153 | H13: 9.1962518e+10 | J13: 0 | L13: 0 | N13: 0 | P13: 0 | R13: 729706 | T13: 156000 | V13: 51777915153 | X13: 1.1356093e+11 | Z13: =X13/'سرمایه گذاری ها'!$J$22*100 -> 0.099736509 | AA13: =D13+J13+N13-R13 -> 0 | AB13: =D13+J13+N13-R13 -> 0 | AC13: =R13*T13*0.9976-X13 -> 0
B14: میلگرد SteelRebar | D14: 127493 | F14: 55843255448 | H14: 80000633567 | J14: 0 | L14: 0 | N14: 0 | P14: 0 | R14: 127493 | T14: 822940 | V14: 55843255448 | X14: 1.0466728e+11 | Z14: =X14/'سرمایه گذاری ها'!$J$22*100 -> 0.091925533 | AA14: =D14+J14+N14-R14 -> 0 | AB14: =D14+J14+N14-R14 -> 0 | AC14: =R14*T14*0.9976-X14 -> 0
B15: مس کاتد CopperCthd | D15: 34142 | F15: 758218591935 | H15: 817441080199 | J15: 0 | L15: 0 | N15: 0 | P15: 0 | R15: 34142 | T15: 28620010 | V15: 758218591935 | X15: 9.7479923e+11 | Z15: =X15/'سرمایه گذاری ها'!$J$22*100 -> 0.85613132 | AA15: =D15+J15+N15-R15 -> 0 | AB15: =D15+J15+N15-R15 -> 0 | AC15: =R15*T15*0.9976-X15 -> 0
F16: =SUM(F11:F15) -> 2421462056520 | H16: =SUM(H11:H15) -> 6.4148596e+12 | L16: =SUM(L11:L15) -> 0 | P16: =SUM(P11:P15) -> 0 | V16: =SUM(V11:V15) -> 2421462056520 | X16: =SUM(X11:X15) -> 7.3502441e+12 | Z16: =SUM(Z11:Z15) -> 6.4554567
L18: 970798882802 | P18: 111282878205 | X18: 5190413282934
X19: =X16-X18 -> 2.1598308e+12
R23: =SUM(R11:R22) -> 1090462
H25: 6414859622980 | X25: 7350244121686
H26: =H16-H25 -> 0.44824219 | X26: =X16-X25 -> -0.41699219

Sheet اوراق مشتقه
B1: =جلد!A22 -> ‫صندوق سرمایه گذاری سهامی اهرمی شتاب آگاه
B2: صورت وضعیت پرتفوی
B3: =جلد!A24 -> ‫برای ماه منتهی به 1405/06/31
B5: اطلاعات آماری مرتبط با اوراق اختیار فروش تبعی خریداری شده توسط صندوق سرمایه گذاری:
D7: =' سهام'!D8 -> 1405/05/31 | L7: =' سهام'!R8 -> 1405/06/31
B8: نام سهام | D8: تعداد اوراق تبعی | F8: قیمت اعمال | H8: تاریخ اعمال | J8: نرخ سود موثر | L8: تعداد اوراق تبعی | N8: قیمت اعمال | P8: تاریخ اعمال | R8: نرخ سود موثر
B9: اختیارف ت وبملت-1383-05/07/27 | D9: 312826822 | F9: 927 | H9: 1405/07/27 | J9: 0.19830194 | L9: 312826822 | N9: 927 | P9: 1405/07/27 | R9: 0.19830194
B10: اختیارف ت وبملت-1668-05/12/04 | D10: 142194010 | F10: 1127 | H10: 1405/12/04 | J10: 0.19834496 | L10: 142194010 | N10: 1127 | P10: 1405/12/04 | R10: 0.19834496
B11: اختیارف ت فولاد-4507-05/12/17 | D11: 64500000 | F11: 3439 | H11: 1405/12/17 | J11: 0.19741565 | L11: 64500000 | N11: 3439 | P11: 1405/12/17 | R11: 0.19741565
B12: اختیارف ت وغدیر-10779-05/06/28 | D12: 12000000 | F12: 9279 | H12: 1405/06/28 | J12: 0.19644694 | L12: 0 | N12: 0 | R12: 0.19644694
B13: اختیارف ت کالا-12888-05/12/23 | D13: 21379310 | F13: 5780 | H13: 1405/12/23 | J13: 0.1962117 | L13: 21379310 | N13: 5780 | P13: 1405/12/23 | R13: 0.1962117
B14: اختیارف ت حتاید-10978-06/02/11 | D14: 3882352 | F14: 7633 | H14: 1406/02/11 | J14: 0.19659898 | L14: 3882352 | N14: 7633 | P14: 1406/02/11 | R14: 0.19659898

Sheet واحدهای صندوق
A1: =جلد!A22 -> ‫صندوق سرمایه گذاری سهامی اهرمی شتاب آگاه
A2: صورت وضعیت پرتفوی
A3: =جلد!A24 -> ‫برای ماه منتهی به 1405/06/31
A4: 2-1-سرمایه‌گذاری در واحدهای صندوق های سرمایه گذاری
C6: ='اوراق مشتقه'!D7 -> 1405/05/31 | I6: تغییرات طی دوره | O6: ='اوراق مشتقه'!L7 -> 1405/06/31
A7: صندوق | C7: تعداد واحد | E7: بهای تمام شده | G7: خالص ارزش فروش | I7: خرید/صدور طی دوره | L7: فروش /ابطال طی دوره | O7: تعداد | Q7: قیمت ابطال/ بازار هر واحد | S7: بهای تمام شده | U7: خالص ارزش فروش | W7: درصد به کل دارایی‌ها
I8: تعداد | J8: بهای تمام شده | L8: تعداد | M8: مبلغ فروش
A9: صندوق ........ | C9: ..... | E9: ..... | G9: ..... | I9: ..... | J9: ..... | L9: ..... | M9: ..... | O9: ..... | Q9: ..... | S9: ..... | U9: ..... | W9: .....
A10: صندوق ........ | C10: ..... | E10: ..... | G10: ..... | I10: ..... | J10: ..... | L10: ..... | M10: ..... | O10: ..... | Q10: ..... | S10: ..... | U10: ..... | W10: .....
A11: جمع | C11: ..... | E11: ..... | G11: ..... | I11: ..... | J11: ..... | L11: ..... | M11: ..... | O11: ..... | Q11: ..... | S11: ..... | U11: ..... | W11: .....

Sheet اوراق
A1: =جلد!A22 -> ‫صندوق سرمایه گذاری سهامی اهرمی شتاب آگاه
A2: =جلد!A23 -> صورت وضعیت پرتفوی
A3: =جلد!A24 -> ‫برای ماه منتهی به 1405/06/31
A4: 3-1-سرمایه‌گذاری در اوراق بهادار با درآمد ثابت یا علی‌الحساب
A6: اطلاعات اوراق بهادار با درآمد ثابت | O6: ='اوراق مشتقه'!D7 -> 1405/05/31 | P6: 1402/12/29 | Q6: 1402/12/29 | R6: 1402/12/29 | S6: 1402/12/29 | U6: تغییرات طی دوره | AA6: ='اوراق مشتقه'!L7 -> 1405/06/31 | AB6: 1403/01/31 | AC6: 1403/01/31 | AD6: 1403/01/31 | AE6: 1403/01/31 | AF6: 1403/01/31 | AG6: 1403/01/31 | AH6: 1403/01/31 | AI6: 1403/01/31
A7: نام اوراق | C7: دارای مجوز از سازمان | E7: پذیرفته شده در بورس یا فرابورس | G7: تاریخ انتشار اوراق | I7: تاریخ سررسید | K7: نرخ سود اسمی | M7: نرخ سود مؤثر | O7: تعداد | Q7: بهای تمام شده | S7: خالص ارزش فروش | U7: خرید طی دوره | X7: فروش طی دوره | AA7: تعداد | AC7: قیمت بازار هر ورقه | AE7: بهای تمام شده | AG7: خالص ارزش فروش | AI7: درصد به کل دارایی‌ها
U8: تعداد | V8: بهای تمام شده | X8: تعداد | Y8: مبلغ فروش
A9: اسنادخزانه-م6بودجه01-030814 | C9: بلی | E9: بلی | G9: 1401/12/10 | I9: 1403/08/14 | K9: 0 | M9: 0 | O9: 4700 | Q9: 0 | S9: 0 | U9: 0 | V9: 0 | X9: 0 | Y9: 0 | AA9: 0 | AC9: 0 | AE9: 0 | AG9: 0 | AI9: =AG9/' سهام'!$X$154 -> #DIV/0!
A10: جمع | O10: =SUM(O9) -> 4700 | Q10: =SUM(Q9) -> 0 | S10: =SUM(S9) -> 0 | U10: =SUM(U9) -> 0 | V10: =SUM(V9) -> 0 | X10: =SUM(X9) -> 0 | Y10: 0 | AA10: 0 | AC10: =SUM(AC9) -> 0 | AE10: =SUM(AE9) -> 0 | AG10: =SUM(AG9) -> 0 | AI10: =SUM(AI9) -> #DIV/0!

Sheet اوراق اختیار معامله
B2: ='اوراق مشتقه'!B1 -> ‫صندوق سرمایه گذاری سهامی اهرمی شتاب آگاه
B3: ='اوراق مشتقه'!B2 -> صورت وضعیت پرتفوی
B4: ='اوراق مشتقه'!B3 -> ‫برای ماه منتهی به 1405/06/31
B6: ‫اطلاعات آماری مرتبط با موقعیت‌های اخذ شده در اوراق اختیار معامله توسط صندوق سرمایه‌گذاری:
D8: ='اوراق مشتقه'!D7 -> 1405/05/31 | M8: ='اوراق مشتقه'!L7 -> 1405/06/31
B9: ‫نام سهام | D9: ‫نوع اختیار | E9: ‫نوع موقعیت | G9: ‫تعداد اوراق | I9: ‫قیمت اعمال | K9: ‫تاریخ اعمال | M9: ‫نوع اختیار | O9: ‫نوع موقعیت | Q9: ‫تعداد اوراق | S9: ‫قیمت اعمال | U9: ‫تاریخ اعمال
B10: اختیارخ وبملت-1700-1405/06/18 | D10: اختیار خرید | E10: موقعیت فروش | G10: 53208000 | I10: 1654 | K10: 1405/06/18 | M10: - | O10: - | Q10: - | S10: - | U10: -
B11: اختیارخ وبملت-1600-1405/06/18 | D11: اختیار خرید | E11: موقعیت فروش | G11: 40000000 | I11: 1554 | K11: 1405/06/18 | M11: - | O11: - | Q11: - | S11: - | U11: -
B12: اختیارخ وبملت-1800-1405/06/18 | D12: اختیار خرید | E12: موقعیت فروش | G12: 18632000 | I12: 1754 | K12: 1405/06/18 | M12: - | O12: - | Q12: - | S12: - | U12: -
B13: اختیارخ فملی-12000-1405/07/08 | D13: - | E13: - | G13: - | I13: - | K13: - | M13: اختیار خرید | O13: موقعیت فروش | Q13: 5484 | S13: 8422 | U13: 1405/07/08
B14: اختیارخ فملی-22000-1405/07/08 | D14: - | E14: - | G14: - | I14: - | K14: - | M14: اختیار خرید | O14: موقعیت فروش | Q14: 20565 | S14: 15714 | U14: 1405/07/08
B15: اختیارخ فملی-24000-1405/07/08 | D15: - | E15: - | G15: - | I15: - | K15: - | M15: اختیار خرید | O15: موقعیت فروش | Q15: 78147 | S15: 17172 | U15: 1405/07/08
B16: اختیارخ فملی-26000-1405/07/08 | D16: - | E16: - | G16: - | I16: - | K16: - | M16: اختیار خرید | O16: موقعیت فروش | Q16: 876069 | S16: 18630 | U16: 1405/07/08

Sheet تعدیل قیمت
A1: =جلد!A22 -> ‫صندوق سرمایه گذاری سهامی اهرمی شتاب آگاه
A2: =جلد!A23 -> صورت وضعیت پرتفوی
A3: =جلد!A24 -> ‫برای ماه منتهی به 1405/06/31
A4: اوراق بهاداری که ارزش آنها در تاریخ گزارش تعدیل شده
A5: (بر اساس دستورالعمل نحوه تعیین قیمت خرید و فروش اوراق بهادار در صندوق های سرمایه گذاری)
C6: ='اوراق مشتقه'!L7 -> 1405/06/31
A7: نام اوراق بهادار | C7: تعداد | E7: قیمت پایانی | G7: قیمت تعدیل شده | I7: درصد تعدیل | K7: خالص ارزش فروش تعدیل شده | M7: دلیل تعدیل
E9: ریال | G9: ریال

Sheet سپرده
A1: =جلد!A22 -> ‫صندوق سرمایه گذاری سهامی اهرمی شتاب آگاه
A2: =جلد!A23 -> صورت وضعیت پرتفوی
A3: =جلد!A24 -> ‫برای ماه منتهی به 1405/06/31
A5: 1-3- سرمایه‌گذاری در سپرده‌ بانکی
C7: =' سهام'!D8 -> 1405/05/31 | E7: تغییرات طی دوره | I7: =' سهام'!R8 -> 1405/06/31
A8: سپرده های بانکی | C8: مبلغ | E8: افزایش | G8: کاهش | I8: مبلغ | K8: درصد به کل دارایی‌ها
A10: پاسارگاد | C10: 8173529 | E10: 85600034114 | G10: 85000755070 | I10: 607452573 | K10: =I10/' سهام'!$AB$10*100 -> 0.00053350388
A11: سامان | C11: 547084568 | E11: 561951107750 | G11: 562489124622 | I11: 9067696 | K11: =I11/' سهام'!$AB$10*100 -> 7.9638332e-06
A12: خاورمیانه | C12: 634857029 | E12: 12205541605227 | G12: 12205813972014 | I12: 362490242 | K12: =I12/' سهام'!$AB$10*100 -> 0.00031836222
A13: گردشگری | C13: 4447508801894 | E13: 2311733005587 | G13: 6673691753455 | I13: 85550054026 | K13: =I13/' سهام'!$AB$10*100 -> 0.075135554
A14: رفاه | C14: 8735681 | E14: 36940 | G14: 0 | I14: 8772621 | K14: =I14/' سهام'!$AB$10*100 -> 7.7046794e-06
A15: صادرات | C15: 275152807797 | E15: 3439016168105 | G15: 3631001620000 | I15: 83167355902 | K15: =I15/' سهام'!$AB$10*100 -> 0.073042916
A16: ملت | C16: 645881 | E16: 2731 | G16: 75000 | I16: 573612 | K16: =I16/' سهام'!$AB$10*100 -> 5.0378291e-07
C17: =SUM(C10:C16) -> 4723861106379 | D17: 0 | E17: =SUM(E10:E16) -> 18603841960454 | F17: 0 | G17: =SUM(G10:G16) -> 23157997300161 | H17: 0 | I17: =SUM(I10:I16) -> 169705766672 | K17: =SUM(K10:K16) -> 0.14904651
I19: 169705766672
I20: =I17-I19 -> 0
K21: =C17+E17-G17-I17 -> 0

Sheet درآمدها
A1: =جلد!A22 -> ‫صندوق سرمایه گذاری سهامی اهرمی شتاب آگاه
A2: صورت وضعیت درآمدها
A3: =جلد!A24 -> ‫برای ماه منتهی به 1405/06/31
A5: 2- درآمد حاصل از سرمایه گذاری ها
A6: شرح | C6: یادداشت | E6: مبلغ | G6: درصد از کل درآمدها | I6: درصد از کل دارایی ها
A7: درآمد حاصل از سرمایه گذاری در سهام و حق تقدم سهام | C7: 2-1 | E7: ='درآمد سرمایه گذاری در سهام '!I195 -> 11297830620478 | G7: =E7/$E$11*100 -> 91.544569 | I7: =E7/'سرمایه گذاری ها'!$J$22*100 -> 9.9224808 | K7: ='درآمد سرمایه گذاری در سهام '!S195 -> 48500563246907 | L7: =K7/$K$11*100 -> 95.438157
A8: درآمد حاصل از سرمایه گذاری در گواهی سپرده کالایی | C8: 2-2 | E8: ='سرمایه گذاری در گواهی سپرده'!I15 -> 935384498706 | G8: =E8/$E$11*100 -> 7.5792755 | I8: =E8/'سرمایه گذاری ها'!$J$22*100 -> 0.82151477 | K8: ='سرمایه گذاری در گواهی سپرده'!S15 -> 1634779876086 | L8: =K8/$K$11*100 -> 3.2168777
A9: درآمد حاصل از سرمایه گذاری در سپرده بانکی | C9: 2-3 | E9: ='درآمد سپرده بانکی'!D15 -> 100436995573 | G9: =E9/$E$11*100 -> 0.8138254 | I9: =E9/'سرمایه گذاری ها'!$J$22*100 -> 0.088210223 | K9: ='درآمد سپرده بانکی'!H15 -> 671992169072 | L9: =K9/$K$11*100 -> 1.3223288
A10: سایر درآمدها | C10: 2-4 | E10: ='سایر درآمدها'!C13 -> 7692350378 | G10: =E10/$E$11*100 -> 0.062329922 | I10: =E10/'سرمایه گذاری ها'!$J$22*100 -> 0.0067559163 | K10: ='سایر درآمدها'!E13 -> 11503722274 | L10: =K10/$K$11*100 -> 0.022636728
E11: =SUM(E7:E10) -> 12341344465135 | G11: =SUM(G7:G10) -> 100 | I11: =SUM(I7:I10) -> 10.838962 | K11: =SUM(K7:K10) -> 50818839014339
K13: 50818839014339 | L13: درآمد تجمیعی
K14: =K11-K13 -> 0
E16: 12341344465135
C17: گردش بدهکار سود سهام مربوط به بورس کالای ایران | E17: =E11-E16 -> 0
E19: 12341344465135
E20: =E11-E19 -> 0

Sheet درآمد سرمایه گذاری در صندوق
A1: صندوق سرمایه گذاری ...................
A2: صورت وضعیت درآمدها
A3: برای ماه منتهی به ............
A5: 2-2-درآمد حاصل از سرمایه­گذاری در واحدهای صندوق:
C7: طی اردیبهشت ماه | L7: از ابتدای سال مالی تا پایان اردیبهشت ماه
A8: صندوق | C8: درآمد سود صندوق | E8: درآمد تغییر ارزش | G8: درآمد فروش | I8: جمع | L8: درآمد سود صندوق | N8: درآمد تغییر ارزش | P8: درآمد فروش | R8: جمع
C10: یادداشت ... | E10: یادداشت ... | G10: یادداشت ... | I10: مبلغ | J10: درصد از کل درآمد ها | L10: یادداشت ... | N10: یادداشت ... | P10: یادداشت ... | R10: مبلغ | S10: درصد از کل درآمد ها
A11: صندوق ..... | C11: ...... | E11: ...... | G11: ...... | I11: ...... | J11: ...... | L11: ...... | N11: ...... | P11: ...... | R11: ...... | S11: ......
A12: صندوق ..... | C12: ...... | E12: ...... | G12: ...... | I12: ...... | J12: ...... | L12: ...... | N12: ...... | P12: ...... | R12: ...... | S12: ......
A13: جمع | C13: ...... | E13: ...... | G13: ...... | I13: ...... | J13: ...... | L13: ...... | N13: ...... | P13: ...... | R13: ...... | S13: ......

Sheet درآمد سرمایه گذاری در اوراق بها
A1: =جلد!A22 -> ‫صندوق سرمایه گذاری سهامی اهرمی شتاب آگاه
A2: صورت وضعیت درآمدها
A3: =جلد!A24 -> ‫برای ماه منتهی به 1405/06/31
A4: 3-2-درآمد حاصل از سرمایه­گذاری در اوراق بهادار با درآمد ثابت:
C6: طی بهمن ماه | K6: از ابتدای سال مالی تا پایان بهمن ماه
C7: درآمد سود اوراق | E7: درآمد تغییر ارزش | G7: درآمد فروش | I7: جمع | K7: درآمد سود اوراق | M7: درآمد تغییر ارزش | O7: درآمد فروش | Q7: جمع
C9: یادداشت ... | E9: یادداشت .... | G9: یادداشت ... | K9: یادداشت ... | M9: یادداشت ... | O9: یادداشت ...
A10: اوراق مشارکت ..... | C10: ...... | E10: ...... | G10: ...... | I10: ...... | K10: ...... | M10: ...... | O10: ...... | Q10: ......
A11: اوراق اجاره ..... | C11: ...... | E11: ...... | G11: ...... | I11: ...... | K11: ...... | M11: ...... | O11: ...... | Q11: ......
A12: جمع | C12: ...... | E12: ...... | G12: ...... | I12: ...... | K12: ...... | M12: ...... | O12: ...... | Q12: ......

Sheet مبالغ تخصیصی اوراق 
A1: =جلد!A22 -> ‫صندوق سرمایه گذاری سهامی اهرمی شتاب آگاه
A2: صورت وضعیت درآمدها
A3: =جلد!A24 -> ‫برای ماه منتهی به 1405/06/31
A5: 1-3-2-مبالغ تخصیص یافته بابت خرید و نگهداری اوراق بهادار با درآمد ثابت (نرخ سود ترجیحی)
A7: طرف معامله | B7: نوع وابستگی | C7: نام ورقه بهادار | D7: تعداد اوراق | E7: بهای تمام شده اوراق | F7: مبلغ شناسایی شده بابت قرارداد خرید و نگهداری اوراق بهادار | G7: نرخ اسمی | H7: میانگین نرخ بازده تا سررسید قراردادهای منعقده
A8: شرکت... | B8: مدیر صندوق | C8: ورقه الف
C9: ورقه ب
A10: شرکت... | B10: شرکت مادر | C10: ورقه الف
C11: ورقه د
A12: صندوق سرمایه­گذاری اختصاصی بازارگردانی … | B12: صندوق­ سرمایه­گذاری اختصاصی بازارگردانی تحت مدیریت مدیر صندوق یا اشخاص تحت کنترل یا وابسته * | C12: ورقه ج
A13: سایر | B13: سایر | C13: ورقه ح
C14: ورقه ط
C15: ورقه ی
C16: ورقه س
A18: *به تفکیک هر یک از صندوق­های سرمایه­گذاری اختصاصی بازارگردانی طرف قرارداد افشا گردد.

Sheet درآمد سرمایه گذاری در اوراق به
A1: صندوق اهرمی شتاب آگاه
A2: صورت وضعیت درآمدها
A3: =#REF! -> #REF!
A5: 2-2درآمد حاصل از سرمایه­گذاری در اوراق بهادار با درآمد ثابت
D6: طی ماه | L6: از ابتدای سال مالی
A8: عنوان | D8: درآمد سود اوراق | F8: درآمد تغییر ارزش | H8: درآمد فروش | J8: جمع | L8: درآمد سود اوراق | N8: درآمد تغییر ارزش | P8: درآمد فروش | R8: جمع
A9: اسنادخزانه-م6بودجه01-030814 | D9: 0 | F9: 0 | H9: 0 | J9: 0 | L9: 0 | N9: 0
A10: جمع | D10: 0 | F10: 0 | H10: 0 | J10: 0 | L10: 0 | N10: 0 | P10: =SUM(P9) -> 0 | R10: =SUM(R9) -> 0

Sheet درآمد سرمایه گذاری در سهام 
A1: صندوق سرمایه گذاری سهامی اهرمی شتاب آگاه
A2: صورت وضعیت درآمدها
A3: =درآمدها!A3 -> ‫برای ماه منتهی به 1405/06/31
A5: 2-1 درآمد حاصل از سرمایه­گذاری در سهام و حق تقدم سهام
C7: =جلد!C35 -> طی شهریور ماه 1405 | M7: =جلد!D35 -> از ابتدای سال مالی تا پایان شهریور ماه 1405
A8: سهام | C8: درآمد سود سهام 2-1-1 | E8: درآمد تغییر ارزش 2-1-2 | G8: درآمد فروش 2-1-3 | I8: مبلغ | K8: درصد از کل درآمدها | M8: درآمد سود سهام 2-1-1 | O8: درآمد تغییر ارزش 2-1-2 | Q8: درآمد فروش 2-1-3 | S8: مبلغ | U8: درصد از کل درآمدها
C9: ریال | E9: ریال | G9: ریال | I9: ریال | M9: ریال | O9: ریال | Q9: ریال | S9: ریال
A10: نفت سپاهان | C10: 0 | E10: 254700173994 | G10: 1035421754 | I10: =C10+E10+G10 -> 255735595748 | K10: =I10/درآمدها!$E$11*100 -> 2.0721859 | M10: 200297074000 | O10: 1106022665439 | Q10: 5028241208 | S10: =M10+O10+Q10 -> 1311347980647 | U10: =S10/درآمدها!$K$11*100 -> 2.5804367
A11: احیا استیل فولاد بافت | C11: 0 | E11: 1577709299 | G11: 0 | I11: =C11+E11+G11 -> 1577709299 | K11: =I11/درآمدها!$E$11*100 -> 0.012783934 | M11: 0 | O11: 3974593440 | Q11: 0 | S11: =M11+O11+Q11 -> 3974593440 | U11: =S11/درآمدها!$K$11*100 -> 0.0078211024
A12: نفت‌ پارس‌ | C12: 0 | E12: 37217653555 | G12: 29739735485 | I12: =C12+E12+G12 -> 66957389040 | K12: =I12/درآمدها!$E$11*100 -> 0.54254534 | M12: 65384812500 | O12: 267488653347 | Q12: 70056081055 | S12: =M12+O12+Q12 -> 402929546902 | U12: =S12/درآمدها!$K$11*100 -> 0.79287436
A13: نفت‌ بهران‌ | C13: 0 | E13: 31284646687 | G13: 0 | I13: =C13+E13+G13 -> 31284646687 | K13: =I13/درآمدها!$E$11*100 -> 0.25349464 | M13: 58182321000 | O13: 395830274850 | Q13: 0 | S13: =M13+O13+Q13 -> 454012595850 | U13: =S13/درآمدها!$K$11*100 -> 0.89339427
A14: موتورسازان‌تراکتورسازی‌ایران‌ | C14: 0 | E14: -2526483303 | G14: 0 | I14: =C14+E14+G14 -> -2526483303 | K14: =I14/درآمدها!$E$11*100 -> -0.020471702 | M14: 5547843184 | O14: 21755828549 | Q14: 7692305329 | S14: =M14+O14+Q14 -> 34995977062 | U14: =S14/درآمدها!$K$11*100 -> 0.068864181
A15: ملی‌ صنایع‌ مس‌ ایران‌ | C15: 37046949300 | E15: 1904678048220 | G15: 10774646857 | I15: =C15+E15+G15 -> 1952499644377 | K15: =I15/درآمدها!$E$11*100 -> 15.820802 | M15: 99741787650 | O15: 4498249197358 | Q15: 19881705534 | S15: =M15+O15+Q15 -> 4617872690542 | U15: =S15/درآمدها!$K$11*100 -> 9.0869307
A16: معدنی‌وصنعتی‌چادرملو | C16: 0 | E16: 18699716044 | G16: 1131729853 | I16: =C16+E16+G16 -> 19831445897 | K16: =I16/درآمدها!$E$11*100 -> 0.16069113 | M16: 11775112980 | O16: 40559499291 | Q16: 1131727596 | S16: =M16+O16+Q16 -> 53466339867 | U16: =S16/درآمدها!$K$11*100 -> 0.10520968 | W16: اختیارخ فملی-24000-1405/05/14 | X16: 91728745
A17: مدیریت انرژی امید تابان هور | C17: 0 | E17: -19164842277 | G17: 0 | I17: =C17+E17+G17 -> -19164842277 | K17: =I17/درآمدها!$E$11*100 -> -0.15528974 | M17: 48346280430 | O17: 32666044597 | Q17: 40208885624 | S17: =M17+O17+Q17 -> 121221210651 | U17: =S17/درآمدها!$K$11*100 -> 0.23853597
A18: مبین انرژی خلیج فارس | C18: 0 | E18: 140499081485 | G18: -19124213933 | I18: =C18+E18+G18 -> 121374867552 | K18: =I18/درآمدها!$E$11*100 -> 0.98348173 | M18: 23680000000 | O18: -19309574187 | Q18: -19124213933 | S18: =M18+O18+Q18 -> -14753788120 | U18: =S18/درآمدها!$K$11*100 -> -0.029032124
A19: لابراتوارداروسازی‌ دکترعبیدی‌ | C19: 0 | E19: 85740040460 | G19: 133948978432 | I19: =C19+E19+G19 -> 219689018892 | K19: =I19/درآمدها!$E$11*100 -> 1.780106 | M19: 0 | O19: 414266003752 | Q19: 140657671537 | S19: =M19+O19+Q19 -> 554923675289 | U19: =S19/درآمدها!$K$11*100 -> 1.0919645
A20: گسترش نفت و گاز پارسیان | C20: 0 | E20: 70311413800 | G20: 917502489 | I20: =C20+E20+G20 -> 71228916289 | K20: =I20/درآمدها!$E$11*100 -> 0.57715686 | M20: 0 | O20: 125799009397 | Q20: -2649476290 | S20: =M20+O20+Q20 -> 123149533107 | U20: =S20/درآمدها!$K$11*100 -> 0.24233047
A21: گسترش سوخت سبززاگرس(سهامی عام) | C21: 0 | E21: 0 | G21: 0 | I21: =C21+E21+G21 -> 0 | K21: =I21/درآمدها!$E$11*100 -> 0 | M21: 157710566 | O21: 0 | Q21: 0 | S21: =M21+O21+Q21 -> 157710566 | U21: =S21/درآمدها!$K$11*100 -> 0.00031033878
A22: گروه‌صنعتی‌سپاهان‌ | C22: 0 | E22: 198771330324 | G22: 0 | I22: =C22+E22+G22 -> 198771330324 | K22: =I22/درآمدها!$E$11*100 -> 1.6106133 | M22: 14425126800 | O22: 325576248767 | Q22: 1355644142 | S22: =M22+O22+Q22 -> 341357019709 | U22: =S22/درآمدها!$K$11*100 -> 0.67171353 | W22: اختیارخ فزر-80000-14041210 | X22: 216052999
A23: گروه‌صنایع‌بهشهرایران‌ | C23: 0 | E23: 187049706953 | G23: 0 | I23: =C23+E23+G23 -> 187049706953 | K23: =I23/درآمدها!$E$11*100 -> 1.5156348 | M23: 28494848000 | O23: 702906378308 | Q23: 0 | S23: =M23+O23+Q23 -> 731401226308 | U23: =S23/درآمدها!$K$11*100 -> 1.4392325
A24: گروه مدیریت سرمایه گذاری امید | C24: 0 | E24: 0 | G24: 0 | I24: =C24+E24+G24 -> 0 | K24: =I24/درآمدها!$E$11*100 -> 0 | M24: 79500000000 | O24: 0 | Q24: -55603309870 | S24: =M24+O24+Q24 -> 23896690130 | U24: =S24/درآمدها!$K$11*100 -> 0.04702329
A25: گروه‌ صنعتی‌ بارز | C25: 0 | E25: 4780559014 | G25: 2380319774 | I25: =C25+E25+G25 -> 7160878788 | K25: =I25/درآمدها!$E$11*100 -> 0.05802349 | M25: 20695675420 | O25: 0 | Q25: -17534908416 | S25: =M25+O25+Q25 -> 3160767004 | U25: =S25/درآمدها!$K$11*100 -> 0.0062196757
A26: گروه توسعه مالی مهرآیندگان | C26: 0 | E26: 0 | G26: 0 | I26: =C26+E26+G26 -> 0 | K26: =I26/درآمدها!$E$11*100 -> 0 | M26: 0 | O26: 0 | Q26: 3134709376 | S26: =M26+O26+Q26 -> 3134709376 | U26: =S26/درآمدها!$K$11*100 -> 0.0061684002
A27: کویر تایر | C27: 0 | G27: 0 | I27: =C27+E27+G27 -> 0 | K27: =I27/درآمدها!$E$11*100 -> 0 | M27: 4412818640 | O27: 0 | Q27: 1430387012 | S27: =M27+O27+Q27 -> 5843205652 | U27: =S27/درآمدها!$K$11*100 -> 0.011498109 | W27: اختیارخ فزر-95000-14041217 | X27: 2319407515
A28: کشتیرانی دریای خزر | C28: 0 | E28: 308952855638 | G28: 0 | I28: =C28+E28+G28 -> 308952855638 | K28: =I28/درآمدها!$E$11*100 -> 2.5033971 | M28: 2015819206 | O28: 407188283103 | Q28: 0 | S28: =M28+O28+Q28 -> 409204102309 | U28: =S28/درآمدها!$K$11*100 -> 0.80522127
A29: کشت و دامداری فکا | C29: 0 | E29: 5193116250 | G29: 0 | I29: =C29+E29+G29 -> 5193116250 | K29: =I29/درآمدها!$E$11*100 -> 0.042079015 | M29: 28348513700 | O29: 114681317244 | Q29: 9939149180 | S29: =M29+O29+Q29 -> 152968980124 | U29: =S29/درآمدها!$K$11*100 -> 0.30100841
A30: کشت و دام گلدشت نمونه اصفهان | C30: 0 | E30: -28805552181 | G30: 5166745728 | I30: =C30+E30+G30 -> -23638806453 | K30: =I30/درآمدها!$E$11*100 -> -0.19154158 | M30: 12695835456 | O30: 115177747211 | Q30: 5166745728 | S30: =M30+O30+Q30 -> 133040328395 | U30: =S30/درآمدها!$K$11*100 -> 0.26179333
A31: کشت و دام قیام اصفهان | C31: 0 | E31: -35396079899 | G31: 29908408595 | I31: =C31+E31+G31 -> -5487671304 | K31: =I31/درآمدها!$E$11*100 -> -0.044465749 | M31: 6265125380 | O31: 0 | Q31: 220151703667 | S31: =M31+O31+Q31 -> 226416829047 | U31: =S31/درآمدها!$K$11*100 -> 0.44553719
A32: کشاورزی و دامپروری بینالود | C32: 0 | E32: -11712536883 | G32: 0 | I32: =C32+E32+G32 -> -11712536883 | K32: =I32/درآمدها!$E$11*100 -> -0.09490487 | M32: 10956127360 | O32: 84802482010 | Q32: 0 | S32: =M32+O32+Q32 -> 95758609370 | U32: =S32/درآمدها!$K$11*100 -> 0.18843132
A33: کربن‌ ایران‌ | C33: 0 | E33: -9750162361 | G33: 15423898031 | I33: =C33+E33+G33 -> 5673735670 | K33: =I33/درآمدها!$E$11*100 -> 0.0459734 | M33: 24782621665 | O33: 0 | Q33: 24239598292 | S33: =M33+O33+Q33 -> 49022219957 | U33: =S33/درآمدها!$K$11*100 -> 0.096464659
A34: کاشی‌ وسرامیک‌ حافظ‌ | C34: 0 | E34: 31905818863 | G34: 0 | I34: =C34+E34+G34 -> 31905818863 | K34: =I34/درآمدها!$E$11*100 -> 0.2585279 | M34: 32355336986 | O34: 246671862103 | Q34: 110301583 | S34: =M34+O34+Q34 -> 279137500672 | U34: =S34/درآمدها!$K$11*100 -> 0.54927957
A35: کاشی‌ الوند | C35: 0 | E35: 16588634544 | G35: 0 | I35: =C35+E35+G35 -> 16588634544 | K35: =I35/درآمدها!$E$11*100 -> 0.13441513 | M35: 0 | O35: 14718349530 | Q35: 0 | S35: =M35+O35+Q35 -> 14718349530 | U35: =S35/درآمدها!$K$11*100 -> 0.028962388
A36: کارخانجات‌تولیدی‌شیشه‌رازی‌ | C36: 0 | E36: 0 | G36: 0 | I36: =C36+E36+G36 -> 0 | K36: =I36/درآمدها!$E$11*100 -> 0 | M36: 0 | O36: 0 | Q36: 305877426 | S36: =M36+O36+Q36 -> 305877426 | U36: =S36/درآمدها!$K$11*100 -> 0.00060189771 | W36: اختیارخ شپنا-7500-1405/04/17 | X36: -1668899029
A37: کارخانجات تولیدی نیروترانسفو | C37: 0 | E37: 684666299 | G37: 0 | I37: =C37+E37+G37 -> 684666299 | K37: =I37/درآمدها!$E$11*100 -> 0.0055477448 | M37: 0 | O37: 25764290550 | Q37: 0 | S37: =M37+O37+Q37 -> 25764290550 | U37: =S37/درآمدها!$K$11*100 -> 0.050698306
A38: قندهکمتان‌ | C38: 0 | E38: -2835956324 | G38: 3760041349 | I38: =C38+E38+G38 -> 924085025 | K38: =I38/درآمدها!$E$11*100 -> 0.0074877176 | M38: 6576561920 | O38: 0 | Q38: 44840708957 | S38: =M38+O38+Q38 -> 51417270877 | U38: =S38/درآمدها!$K$11*100 -> 0.10117758
A39: قاسم ایران | C39: 0 | E39: -43868699886 | G39: 0 | I39: =C39+E39+G39 -> -43868699886 | K39: =I39/درآمدها!$E$11*100 -> -0.35546127 | M39: 36402722730 | O39: 414899166434 | Q39: -11074 | S39: =M39+O39+Q39 -> 451301878090 | U39: =S39/درآمدها!$K$11*100 -> 0.88806019
A40: فولاد مبارکه اصفهان | C40: 0 | E40: 142835369602 | G40: 17023621223 | I40: =C40+E40+G40 -> 159858990825 | K40: =I40/درآمدها!$E$11*100 -> 1.2953126 | M40: 18112394575 | O40: 147950610369 | Q40: -3700485573 | S40: =M40+O40+Q40 -> 162362519371 | U40: =S40/درآمدها!$K$11*100 -> 0.31949278
A41: فولاد آلیاژی ایران | C41: 0 | E41: -22798509567 | G41: 74483086390 | I41: =C41+E41+G41 -> 51684576823 | K41: =I41/درآمدها!$E$11*100 -> 0.41879211 | M41: 42577760700 | O41: 14519777672 | Q41: 81847560932 | S41: =M41+O41+Q41 -> 138945099304 | U41: =S41/درآمدها!$K$11*100 -> 0.27341258
A42: فولاد امیرکبیرکاشان | C42: 0 | G42: 0 | I42: =C42+E42+G42 -> 0 | K42: =I42/درآمدها!$E$11*100 -> 0 | M42: 25828217150 | O42: 0 | Q42: 13323791182 | S42: =M42+O42+Q42 -> 39152008332 | U42: =S42/درآمدها!$K$11*100 -> 0.077042312
...

Sheet سرمایه گذاری در گواهی سپرده
A1: صندوق سرمایه گذاری سهامی اهرمی شتاب آگاه
A2: صورت وضعیت درآمدها
A3: =درآمدها!A3 -> ‫برای ماه منتهی به 1405/06/31
A5: 2-2 درآمد حاصل از سرمایه گذاری در گواهی سپرده کالایی
C7: =جلد!C35 -> طی شهریور ماه 1405 | O7: ='درآمد سرمایه گذاری در سهام '!M7:U7 -> 0
A8: نام سپرده کالایی | C8: درآمد سود سهام | E8: درآمد تغییر ارزش | G8: درآمد فروش | I8: مبلغ | K8: درصد از کل درآمدها | O8: درآمد تغییر ارزش | Q8: درآمد فروش | S8: مبلغ | U8: درصد از کل درآمدها
C9: ریال | E9: ریال | G9: ریال | I9: ریال | O9: ریال | Q9: ریال | S9: ریال
A10: میلگرد SteelRebar | C10: 0 | E10: 24666650038 | G10: 0 | I10: =E10+G10 -> 24666650038 | K10: =I10/درآمدها!$E$11*100 -> 0.19987004 | M10: 0 | O10: 45278577981 | Q10: 0 | S10: =O10+Q10 -> 45278577981 | T10: 29132908613 | U10: =Q10/درآمدها!$K$11*100 -> 0
A11: مس کاتد CopperCthd | C11: 0 | E11: 157358154705 | G11: 0 | I11: =E11+G11 -> 157358154705 | K11: =I11/درآمدها!$E$11*100 -> 1.2750487 | M11: 0 | O11: 205711596802 | Q11: 0 | S11: =O11+Q11 -> 205711596802 | T11: 12410444308 | U11: =S11/درآمدها!$K$11*100 -> 0.40479397
A12: شمش روی ZincIngot | C12: 0 | E12: 6266115144 | G12: 0 | I12: =E12+G12 -> 6266115144 | K12: =I12/درآمدها!$E$11*100 -> 0.050773359 | M12: 0 | O12: 18676559452 | Q12: 0 | S12: =O12+Q12 -> 18676559452 | T12: 48353442097 | U12: =S12/درآمدها!$K$11*100 -> 0.036751252
A13: شمش طلا GoldBar | C13: 0 | E13: 725495162704 | G13: 0 | I13: =E13+G13 -> 725495162704 | K13: =I13/درآمدها!$E$11*100 -> 5.8785748 | M13: 0 | O13: 1349454678916 | Q13: -35072863007 | S13: =O13+Q13 -> 1314381815909 | T13: 20611927943 | U13: =S13/درآمدها!$K$11*100 -> 2.5864066
A14: گندله سنگ آهن IronOrePlt | C14: 0 | E14: 21598416115 | G14: 0 | I14: =E14+G14 -> 21598416115 | K14: =I14/درآمدها!$E$11*100 -> 0.17500862 | M14: 0 | O14: 50731163434 | Q14: 162508 | S14: =O14+Q14 -> 50731325942 | T14: 586308794555 | U14: =S14/درآمدها!$K$11*100 -> 0.099827794
C15: =SUM(C11:C14) -> 0 | E15: =SUM(E10:E14) -> 935384498706 | G15: =SUM(G10:G14) -> 0 | I15: =SUM(I10:I14) -> 935384498706 | K15: =SUM(K10:K14) -> 7.5792755 | O15: =SUM(O10:O14) -> 1669852576585 | Q15: =SUM(Q10:Q14) -> -35072700499 | S15: =SUM(S10:S14) -> 1634779876086 | U15: =SUM(U10:U14) -> 3.1277796
E18: 935384498706 | I18: =E15+G15 -> 935384498706 | O18: 1669852576585 | Q18: 35072700499 | S18: =O15+Q15 -> 1634779876086
E19: =E15-E18 -> 0 | F19: =F15-B18 -> 0 | G19: =G15-C18 -> 0 | H19: =H15-D18 -> 0 | I19: =I15-I18 -> 0 | O19: =O15-O18 -> 0 | P19: =P15-P18 -> 0 | Q19: =Q15+Q18 -> 0 | R19: =R15-R18 -> 0 | S19: =S15-S18 -> 0 | T19: =T15-T18 -> 0 | U19: =U15-U18 -> 3.1277796
E282: ='سرمایه گذاری در گواهی سپرده'!E15 -> 935384498706

Sheet درآمد سپرده بانکی
A1: صندوق سرمایه گذاری سهامی اهرمی شتاب آگاه
A2: صورت وضعیت درآمدها
A3: =درآمدها!A3 -> ‫برای ماه منتهی به 1405/06/31
A5: 2-3درآمد حاصل از سرمایه­گذاری در سپرده بانکی و گواهی سپرده
D6: =جلد!C35 -> طی شهریور ماه 1405 | H6: =جلد!D35 -> از ابتدای سال مالی تا پایان شهریور ماه 1405
A7: نام سپرده بانکی | D7: سود سپرده بانکی و گواهی سپرده | F7: درصد سود به میانگین سپرده | H7: سود سپرده بانکی و گواهی سپرده | J7: درصد سود به میانگین سپرده
B8: گردشگری | D8: 98368806677 | F8: =D8/$D$15*100 -> 97.94081 | H8: 444178825496 | J8: =H8/$H$15*100 -> 66.09881
B9: صادرات | D9: 2067848549 | F9: =D9/$D$15*100 -> 2.0588515 | H9: 227797126249 | J9: =H9/$H$15*100 -> 33.898777
B10: پاسارگاد | D10: 34114 | F10: =D10/$D$15*100 -> 3.3965572e-05 | H10: 788538 | J10: =H10/$H$15*100 -> 0.00011734333
B11: سامان | D11: 7695 | F11: =D11/$D$15*100 -> 7.6615195e-06 | H11: 6327042 | J11: =H11/$H$15*100 -> 0.00094153508
B12: خاورمیانه | D12: 258867 | F12: =D12/$D$15*100 -> 0.00025774068 | H12: 5926117 | J12: =H12/$H$15*100 -> 0.00088187293
B13: رفاه | D13: 36940 | F13: =D13/$D$15*100 -> 3.6779276e-05 | H13: 3151800 | J13: =H13/$H$15*100 -> 0.00046902332
B14: ملت | D14: 2731 | F14: =D14/$D$15*100 -> 2.7191176e-06 | H14: 23830 | J14: =H14/$H$15*100 -> 3.5461723e-06
D15: =SUM(D8:D14) -> 100436995573 | F15: =SUM(F8:F14) -> 100 | H15: =SUM(H8:H14) -> 671992169072 | J15: =SUM(J8:J14) -> 100

Sheet سایر درآمدها
A1: =جلد!A22 -> ‫صندوق سرمایه گذاری سهامی اهرمی شتاب آگاه
A2: صورت وضعیت درآمدها
A3: =جلد!A24 -> ‫برای ماه منتهی به 1405/06/31
A5: 2-4سایر درآمدها:
C6: =جلد!C35 -> طی شهریور ماه 1405 | E6: =جلد!D35 -> از ابتدای سال مالی تا پایان شهریور ماه 1405
C7: مبلغ | E7: مبلغ
C9: ریال | E9: ریال
A10: تنزیل سود سهام | C10: 0 | E10: 2559916775
A11: تنزیل سود بانک | C11: 0 | E11: 74783230
A12: تعدیل کارمزد کارگزار | C12: 7692350378 | E12: 8869022269
C13: =SUM(C10:C12) -> 7692350378 | E13: =SUM(E10:E12) -> 11503722274

Sheet سود سپرده بانکی
B1: صندوق سرمایه گذاری سهامی اهرمی شتاب آگاه
B2: صورت وضعیت درآمدها
B3: ='درآمد ناشی از تغییر قیمت اوراق'!A3 -> ‫برای ماه منتهی به 1405/06/31
A5: بانکی | B5: 2-3-1سود سپرده بانکی
B6: شرح | D6: =جلد!C35 -> طی شهریور ماه 1405 | J6: =جلد!D35 -> از ابتدای سال مالی تا پایان شهریور ماه 1405
D7: درآمد سود | F7: هزینه تنزیل | H7: خالص درآمد | J7: درآمد سود | L7: هزینه تنزیل | N7: خالص درآمد
B8: پاسارگاد | D8: 34114 | F8: 0 | H8: 34114 | J8: 788538 | L8: 0 | N8: 788538
B9: سامان | D9: 7695 | F9: 0 | H9: 7695 | J9: 6327042 | L9: 0 | N9: 6327042
B10: خاورمیانه | D10: 258867 | F10: 0 | H10: 258867 | J10: 5926117 | L10: 0 | N10: 5926117
B11: گردشگری | D11: 98368806677 | F11: 0 | H11: 989420 | J11: 444178825496 | L11: 0 | N11: 145738693
B12: رفاه | D12: 36940 | F12: 0 | H12: 36940 | J12: 3151800 | L12: 0 | N12: 3151800
B13: صادرات | D13: 2067848549 | F13: 0 | H13: 2067848549 | J13: 227797126249 | L13: 0 | N13: 227797126249
B14: ملت | D14: 2731 | F14: 0 | H14: 2731 | J14: 23830 | L14: 0 | N14: 23830
D15: =SUM(D8:D14) -> 100436995573 | F15: =SUM(F8:F14) -> 0 | H15: =SUM(H8:H14) -> 2069178316 | J15: =SUM(J8:J14) -> 671992169072 | L15: =SUM(L8:L14) -> 0 | N15: =SUM(N8:N14) -> 227959082269
D17: =+'درآمد سپرده بانکی'!D15 -> 100436995573 | J17: =+'درآمد سپرده بانکی'!H15 -> 671992169072
D18: =D15-D17 -> 0 | J18: =J15-J17 -> 0

Sheet درآمد سود سهام
A1: صندوق سرمایه گذاری سهامی اهرمی شتاب آگاه
A2: صورت وضعیت درآمدها
A3: ='درآمد سپرده بانکی'!A3 -> ‫برای ماه منتهی به 1405/06/31
A5: 2-1-1درآمد سود سهام
A6: نام سهام | C6: اطلاعات مجمع | I6: =جلد!C35 -> طی شهریور ماه 1405 | O6: =جلد!D35 -> از ابتدای سال مالی تا پایان شهریور ماه 1405
C7: تاریخ تشکیل مجمع | E7: تعداد سهام متعلقه در زمان مجمع | G7: سود متعلق به هر سهم | I7: جمع درآمد سود سهام | K7: هزینه تنزیل | M7: خالص درآمد سود سهام | O7: جمع درآمد سود سهام | Q7: هزینه تنزیل | S7: خالص درآمد سود سهام | T7: -1
G8: ریال | I8: ریال | K8: ریال | M8: ریال | O8: ریال | Q8: ریال | S8: ریال
A9: پالایش نفت اصفهان | C9: 1405/04/30 | E9: 452265569 | G9: 740 | I9: 0 | K9: 0 | M9: 0 | O9: 334676521060 | Q9: 0 | S9: 334676521060 | U9: =G9*E9-O9 -> 0
A10: پالایش نفت بندرعباس | C10: 1405/05/18 | E10: 250305720 | G10: 1189 | I10: 0 | K10: 0 | M10: 0 | O10: 297613501080 | Q10: -11747901358 | S10: 285865599722 | U10: =G10*E10-O10 -> 0
A11: س. نفت و گاز و پتروشیمی تأمین | C11: 1405/06/23 | E11: 93572737 | G11: 3100 | I11: 290075484700 | K11: -4883425668 | M11: 285192059032 | O11: 290075484700 | Q11: -4883425668 | S11: 285192059032 | U11: =G11*E11-O11 -> 0
A12: پست بانک ایران | C12: 1405/04/29 | E12: 241922970 | G12: 1110 | I12: 0 | K12: 0 | M12: 0 | O12: 268534496700 | Q12: 0 | S12: 268534496700 | U12: =G12*E12-O12 -> 0
A13: نفت سپاهان | C13: 1405/04/31 | E13: 100148537 | G13: 2000 | I13: 0 | K13: 0 | M13: 0 | O13: 200297074000 | Q13: 0 | S13: 200297074000 | U13: =G13*E13-O13 -> 0
A14: تایدواترخاورمیانه | C14: 1405/04/29 | E14: 219488212 | G14: 850 | I14: 0 | K14: 0 | M14: 0 | O14: 186564980200 | Q14: 0 | S14: 186564980200 | U14: =G14*E14-O14 -> 0
A15: سیمان‌ صوفیان‌ | C15: 1405/03/19 | E15: 3902098 | G15: 27400 | I15: 0 | K15: 0 | M15: 0 | O15: 106917485200 | Q15: 0 | S15: 106917485200 | U15: =G15*E15-O15 -> 0
A16: سرمایه گذاری سیمان تامین | C16: 1405/06/15 | E16: 25389309 | G16: 4155 | I16: 105492578895 | K16: -788863608 | M16: 104703715287 | O16: 105492578895 | Q16: -788863608 | S16: 104703715287 | U16: =G16*E16-O16 -> 0
A17: پتروشیمی‌شیراز | C17: 1405/03/27 | E17: 13244641 | G17: 6928 | I17: 0 | K17: 0 | M17: 0 | O17: 91758872848 | Q17: -748034290 | S17: 91010838558 | U17: =G17*E17-O17 -> 0
A18: بورس کالای ایران | C18: 1405/03/12 | E18: 169655034 | G18: 530 | I18: 0 | K18: 0 | M18: 0 | O18: 89917168020 | Q18: 0 | S18: 89917168020 | U18: =G18*E18-O18 -> 0
A19: سیمان خوزستان | C19: 1405/04/21 | E19: 5783685 | G19: 14600 | I19: 0 | K19: 0 | M19: 0 | O19: 84441801000 | Q19: 0 | S19: 84441801000 | U19: =G19*E19-O19 -> 0
A20: سیمان‌شاهرود | C20: 1405/04/31 | E20: 50846675 | G20: 1600 | I20: 0 | K20: 0 | M20: 0 | O20: 81354680000 | Q20: -3005186069 | S20: 78349493931 | U20: =G20*E20-O20 -> 0
... A78: حمل‌ونقل‌توکا | C78: 1405/02/31 | E78: 72423568 | G78: 150 | I78: 0 | K78: 0 | M78: 0 | O78: 10863535200 | Q78: -359719709 | S78: 10503815491 | U78: =G78*E78-O78 -> 0
A79: ذغال‌سنگ‌ نگین‌ ط‌بس‌ | C79: 1405/04/29 | E79: 13533615 | G79: 800 | I79: 0 | K79: 0 | M79: 0 | O79: 10826892000 | Q79: -399937963 | S79: 10426954037
A80: بانک سامان | C80: 1405/04/20 | E80: 52968928 | G80: 158 | I80: 0 | K80: 0 | M80: 0 | O80: 8369090624 | Q80: 0 | S80: 8369090624
A81: ایران‌ ترانسفو | C81: 1405/04/22 | E81: 39021634 | G81: 210 | I81: 0 | K81: 0 | M81: 0 | O81: 8194543140 | Q81: -276586168 | S81: 7917956972
A82: رینگ اسپرت نور نی ریز | C82: 1405/04/31 | E82: 5310000 | G82: 1470 | I82: 0 | K82: 0 | M82: 0 | O82: 7805700000 | Q82: 0 | S82: 7805700000
A83: قندهکمتان‌ | C83: 1405/04/24 | E83: 10275878 | G83: 640 | I83: 0 | K83: 0 | M83: 0 | O83: 6576561920 | Q83: 0 | S83: 6576561920
A84: بانک سینا | C84: 1405/04/31 | E84: 52589139 | G84: 125 | I84: 0 | K84: 0 | M84: 0 | O84: 6573642375 | Q84: 0 | S84: 6573642375
A85: کشت و دام قیام اصفهان | C85: 1405/04/25 | E85: 6665027 | G85: 940 | I85: 0 | K85: 0 | M85: 0 | O85: 6265125380 | Q85: -122020575 | S85: 6143104805
A86: شیشه‌ و گاز | C86: 1405/06/02 | E86: 2447340 | G86: 2520 | I86: 6167296800 | K86: -350595684 | M86: 5816701116 | O86: 6167296800 | Q86: -350595684 | S86: 5816701116
A87: دارویی و نهاده های زاگرس دارو | C87: 1405/04/30 | E87: 19500000 | G87: 300 | I87: 0 | K87: 0 | M87: 0 | O87: 5850000000 | Q87: -47690217 | S87: 5802309783
A88: موتورسازان‌تراکتورسازی‌ایران‌ | C88: 1405/03/27 | E88: 53344646 | G88: 104 | I88: 0 | K88: 0 | M88: 0 | O88: 5547843184 | Q88: 0 | S88: 5547843184
A89: فرآوری زغال سنگ پروده طبس | C89: 1405/04/31 | E89: 5060676 | G89: 930 | I89: 0 | K89: 0 | M89: 0 | O89: 4706428680 | Q89: -170860447 | S89: 4535568233
A90: کویر تایر | C90: 1405/01/31 | E90: 7608308 | G90: 580 | I90: 0 | K90: 0 | M90: 0 | O90: 4412818640 | Q90: 0 | S90: 4412818640
A91: کشتیرانی دریای خزر | C91: 1405/04/24 | E91: 19958606 | G91: 101 | I91: 0 | K91: 0 | M91: 0 | O91: 2015819206 | Q91: 0 | S91: 2015819206 | U91: =G91*E91-O91 -> 0
A92: تولیدات پتروشیمی قائد بصیر | C92: 1405/04/07 | E92: 1230346 | G92: 1600 | I92: 0 | K92: 0 | M92: 0 | O92: 1968553600 | Q92: 0 | S92: 1968553600 | U92: =G92*E92-O92 -> 0
A93: بانک تجارت | C93: 1405/04/31 | E93: 191600000 | G93: 9 | I93: 0 | K93: 0 | M93: 0 | O93: 1724400000 | Q93: 0 | S93: 1724400000 | U93: =G93*E93-O93 -> 0
A94: سیمرغ | C94: 1405/04/11 | E94: 21429578 | G94: 42 | I94: 0 | K94: 0 | M94: 0 | O94: 900042276 | Q94: -21071224 | S94: 878971052 | U94: =G94*E94-O94 -> 0
A95: پاریز شرق | C95: 1405/06/18 | E95: 750000 | G95: 300 | I95: 225000000 | K95: -10294118 | M95: 214705882 | O95: 225000000 | Q95: -10294118 | S95: 214705882 | U95: =G95*E95-O95 -> 0
A96: آکو باتری ایرانیان | C96: 1405/06/10 | E96: 305 | G96: 3244 | I96: 989420 | K96: 0 | M96: 989420 | O96: 989420 | Q96: 0 | S96: 989420 | U96: =G96*E96-O96 -> 0
A97: گسترش سوخت سبززاگرس(سهامی عام) | C97: 1405/04/31 | E97: 15771057 | G97: 10 | K97: 0 | M97: 0 | O97: 157710566 | Q97: 0 | S97: 157710566 | U97: =G97*E97-O97 -> 0
I98: =SUM(I9:I97) -> 563813862490 | K98: =SUM(K9:K97) -> -14564539490 | M98: =SUM(M9:M97) -> 549249323000 | O98: =SUM(O9:O97) -> 4311923241248 | Q98: =SUM(Q9:Q97) -> -50842991981 | S98: =SUM(S9:S97) -> 4261080249267 | T98: =SUM(#REF!) -> #REF!
...

Sheet درآمد ناشی از تغییر قیمت اوراق
A1: صندوق سرمایه گذاری سهامی اهرمی شتاب آگاه
A2: صورت وضعیت درآمدها
A3: ='درآمد سود سهام'!A3 -> ‫برای ماه منتهی به 1405/06/31
A5: 2-1-2درآمد ناشی از تغییر قیمت اوراق بهادار
A7: شرح | C7: =جلد!C35 -> طی شهریور ماه 1405 | K7: =جلد!D35 -> از ابتدای سال مالی تا پایان شهریور ماه 1405
C8: تعداد | E8: خالص ارزش فروش | G8: ارزش دفتری | I8: سود و زیان ناشی از تغییر قیمت | K8: تعداد | M8: خالص ارزش فروش | O8: ارزش دفتری | Q8: سود و زیان ناشی از تغییر قیمت | R8: -1
E9: ریال | G9: ریال | I9: ریال | M9: ریال | O9: ریال | Q9: ریال | U9: -1
A10: احیا استیل فولاد بافت | C10: 3000000 | E10: 13991007000 | G10: -12413297701 | I10: =G10+E10 -> 1577709299 | K10: 3000000 | M10: 13991007000 | O10: -10016413560 | Q10: =O10+M10 -> 3974593440 | R10: =VLOOKUP(A10,' سهام'!$B$12:$R$145,17,0)-K10 -> 0
A11: اقتصادی و خودکفایی آزادگان | C11: 19371546 | E11: 271219653726 | G11: -267788042276 | I11: =G11+E11 -> 3431611450 | K11: 19371546 | M11: 271219653726 | O11: -236745231506 | Q11: =O11+M11 -> 34474422220 | R11: =VLOOKUP(A11,' سهام'!$B$12:$R$145,17,0)-K11 -> 0
A12: البرزدارو | C12: 85287356 | E12: 1280422922087 | G12: -1264633361056 | I12: =G12+E12 -> 15789561031 | K12: 85287356 | M12: 1280422922087 | O12: -1264633361056 | Q12: =O12+M12 -> 15789561031 | R12: =VLOOKUP(A12,' سهام'!$B$12:$R$145,17,0)-K12 -> 0
A13: ایران‌ ترانسفو | C13: 39021634 | E13: 137455988530 | G13: -120419189952 | I13: =G13+E13 -> 17036798578 | K13: 39021634 | M13: 137455988530 | O13: -89404472450 | Q13: =O13+M13 -> 48051516080 | R13: =VLOOKUP(A13,' سهام'!$B$12:$R$145,17,0)-K13 -> 0
A14: ایران‌ خودرو | C14: 2100128659 | E14: 1387873846534 | G14: -1387094447489 | I14: =G14+E14 -> 779399045 | K14: 2100128659 | M14: 1387873846534 | O14: -1246959260962 | Q14: =O14+M14 -> 140914585572 | R14: =VLOOKUP(A14,' سهام'!$B$12:$R$145,17,0)-K14 -> 0
A15: آکو باتری ایرانیان | C15: 0 | E15: 0 | G15: -194001 | I15: =G15+E15 -> -194001 | K15: 0 | M15: 0 | O15: 0 | Q15: =O15+M15 -> 0 | R15: =VLOOKUP(A15,' سهام'!$B$12:$R$145,17,0)-K15 -> 0
A16: آلومینیوم‌ایران‌ | C16: 52818816 | E16: 759952635008 | G16: -817073619851 | I16: =G16+E16 -> -57120984843 | K16: 52818816 | M16: 759952635008 | O16: -332876772222 | Q16: =O16+M16 -> 427075862786 | R16: =VLOOKUP(A16,' سهام'!$B$12:$R$145,17,0)-K16 -> 0
A17: بانک تجارت | C17: 324866000 | E17: 279159244520 | G17: -290414298971 | I17: =G17+E17 -> -11255054451 | K17: 324866000 | M17: 279159244520 | O17: -252517877006 | Q17: =O17+M17 -> 26641367514 | R17: =VLOOKUP(A17,' سهام'!$B$12:$R$145,17,0)-K17 -> 0
A18: بانک خاورمیانه | C18: 104960882 | E18: 635312159731 | G18: -656142066606 | I18: =G18+E18 -> -20829906875 | K18: 104960882 | M18: 635312159731 | O18: -365633392597 | Q18: =O18+M18 -> 269678767134 | R18: =VLOOKUP(A18,' سهام'!$B$12:$R$145,17,0)-K18 -> 0
A19: بانک سامان | C19: 43648928 | E19: 366848589532 | G19: -392725088785 | I19: =G19+E19 -> -25876499253 | K19: 43648928 | M19: 366848589532 | O19: -151815828454 | Q19: =O19+M19 -> 215032761078 | R19: =VLOOKUP(A19,' سهام'!$B$12:$R$145,17,0)-K19 -> 0
A20: بانک سینا | C20: 52589139 | E20: 167506226107 | G20: -169071704854 | I20: =G20+E20 -> -1565478747 | K20: 52589139 | M20: 167506226107 | O20: -98191663372 | Q20: =O20+M20 -> 69314562735 | R20: =VLOOKUP(A20,' سهام'!$B$12:$R$145,17,0)-K20 -> 0
A21: بانک ملت | C21: 1161292425 | E21: 1658182198124 | G21: -1609075355679 | I21: =G21+E21 -> 49106842445 | K21: 1161292425 | M21: 1658182198124 | O21: -1209477090943 | Q21: =O21+M21 -> 448705107181 | R21: =VLOOKUP(A21,' سهام'!$B$12:$R$145,17,0)-K21 -> 0
... A96: قاسم ایران | C96: 381124540 | E96: 781694850581 | G96: -825563550467 | I96: =G96+E96 -> -43868699886 | K96: 381124540 | M96: 781694850581 | O96: -366795684147 | Q96: =O96+M96 -> 414899166434 | R96: =VLOOKUP(A96,' سهام'!$B$12:$R$145,17,0)-K96 -> 0
A97: قندهکمتان‌ | C97: 0 | E97: 0 | G97: -2835956324 | I97: =G97+E97 -> -2835956324 | K97: 0 | M97: 0 | O97: 0 | Q97: =O97+M97 -> 0 | R97: =VLOOKUP(A97,'سپرده کالایی'!$B$11:$R$15,17,0)-K97 -> #N/A
A98: کارخانجات تولیدی نیروترانسفو | C98: 1500000 | E98: 38877138600 | G98: -38192472301 | I98: =G98+E98 -> 684666299 | K98: 1500000 | M98: 38877138600 | O98: -13112848050 | Q98: =O98+M98 -> 25764290550 | R98: =VLOOKUP(A98,'سپرده کالایی'!$B$11:$R$15,17,0)-K98 -> #N/A
A99: کاشی‌ الوند | C99: 45439548 | E99: 307953091007 | G99: -291364456463 | I99: =G99+E99 -> 16588634544 | K99: 45439548 | M99: 307953091007 | O99: -293234741470 | Q99: =O99+M99 -> 14718349537 | R99: =VLOOKUP(A99,'سپرده کالایی'!$B$11:$R$15,17,0)-K99 -> #N/A
A100: کاشی‌ وسرامیک‌ حافظ‌ | C100: 200964826 | E100: 490950787757 | G100: -459044968894 | I100: =G100+E100 -> 31905818863 | K100: 200964826 | M100: 490950787757 | O100: -244278925654 | Q100: =O100+M100 -> 246671862103 | R100: =VLOOKUP(A100,'سپرده کالایی'!$B$11:$R$15,17,0)-K100 -> #N/A
A101: کربن‌ ایران‌ | C101: 0 | E101: 0 | G101: -9750162361 | I101: =G101+E101 -> -9750162361 | K101: 0 | M101: 0 | O101: 0 | Q101: =O101+M101 -> 0 | R101: =VLOOKUP(A101,' سهام'!$B$12:$R$145,17,0)-K101 -> 0
A102: کشاورزی و دامپروری بینالود | C102: 38582061 | E102: 518745783607 | G102: -530458320490 | I102: =G102+E102 -> -11712536883 | K102: 38582061 | M102: 518745783607 | O102: -433943301597 | Q102: =O102+M102 -> 84802482010 | R102: =VLOOKUP(A102,' سهام'!$B$12:$R$145,17,0)-K102 -> 0
A103: کشت و دام قیام اصفهان | C103: 0 | E103: 0 | G103: -35396079899 | I103: =G103+E103 -> -35396079899 | K103: 0 | M103: 0 | O103: 0 | Q103: =O103+M103 -> 0
A104: کشت و دام گلدشت نمونه اصفهان | C104: 30803746 | E104: 298626234834 | G104: -327431787015 | I104: =G104+E104 -> -28805552181 | K104: 30803746 | M104: 298626234834 | O104: -183448487623 | Q104: =O104+M104 -> 115177747211
A105: کشت و دامداری فکا | C105: 43613098 | E105: 345342230644 | G105: -340149114394 | I105: =G105+E105 -> 5193116250 | K105: 43613098 | M105: 345342230644 | O105: -230660913400 | Q105: =O105+M105 -> 114681317244
A106: کشتیرانی دریای خزر | C106: 88596126 | E106: 909002613961 | G106: -600049758323 | I106: =G106+E106 -> 308952855638 | K106: 88596126 | M106: 909002613961 | O106: -501814330858 | Q106: =O106+M106 -> 407188283103
A107: گروه‌ صنعتی‌ بارز | C107: 0 | E107: 0 | G107: 4780559014 | I107: =G107+E107 -> 4780559014 | K107: 0 | M107: 0 | O107: 0 | Q107: =O107+M107 -> 0
A108: گروه‌صنایع‌بهشهرایران‌ | C108: 201550552 | E108: 1165956661138 | G108: -978906954185 | I108: =G108+E108 -> 187049706953 | K108: 201550552 | M108: 1165956661138 | O108: -463050282830 | Q108: =O108+M108 -> 702906378308
A109: گروه‌صنعتی‌سپاهان‌ | C109: 132343565 | E109: 1076828503788 | G109: -878057173464 | I109: =G109+E109 -> 198771330324 | K109: 132343565 | M109: 1076828503788 | O109: -751252255021 | Q109: =O109+M109 -> 325576248767 | R109: =VLOOKUP(A109,' سهام'!$B$12:$R$145,17,0)-K109 -> 0
A110: گسترش نفت و گاز پارسیان | C110: 15683343 | E110: 529889871330 | G110: -459578457530 | I110: =G110+E110 -> 70311413800 | K110: 15683343 | M110: 529889871330 | O110: -404090861933 | Q110: =O110+M110 -> 125799009397 | R110: =VLOOKUP(A110,' سهام'!$B$12:$R$145,17,0)-K110 -> 0
A111: لابراتوارداروسازی‌ دکترعبیدی‌ | C111: 44715254 | E111: 1085280540417 | G111: -999540499957 | I111: =G111+E111 -> 85740040460 | K111: 44715254 | M111: 1085280540417 | O111: -671014536665 | Q111: =O111+M111 -> 414266003752 | R111: =VLOOKUP(A111,' سهام'!$B$12:$R$145,17,0)-K111 -> 0
A112: مبین انرژی خلیج فارس | C112: 7000000 | E112: 83906351200 | G112: 56592730285 | I112: =G112+E112 -> 140499081485 | K112: 7000000 | M112: 83906351200 | O112: -103215925387 | Q112: =O112+M112 -> -19309574187 | R112: =VLOOKUP(A112,' سهام'!$B$12:$R$145,17,0)-K112 -> 0
A113: مدیریت انرژی امید تابان هور | C113: 57654151 | E113: 137128737137 | G113: -156293579414 | I113: =G113+E113 -> -19164842277 | K113: 57654151 | M113: 137128737137 | O113: -104462692540 | Q113: =O113+M113 -> 32666044597 | R113: =VLOOKUP(A113,' سهام'!$B$12:$R$145,17,0)-K113 -> 0
A114: معدنی‌وصنعتی‌چادرملو | C114: 63849176 | E114: 176762185015 | G114: -158062468971 | I114: =G114+E114 -> 18699716044 | K114: 63849176 | M114: 176762185015 | O114: -136202685724 | Q114: =O114+M114 -> 40559499291
A115: ملی‌ صنایع‌ مس‌ ایران‌ | C115: 405054761 | E115: 9710476294770 | G115: -7805798246550 | I115: =G115+E115 -> 1904678048220 | K115: 405054761 | M115: 9710476294770 | O115: -5212227097412 | Q115: =O115+M115 -> 4498249197358
A116: موتورسازان‌تراکتورسازی‌ایران‌ | C116: 28290724 | E116: 61449688343 | G116: -63976171646 | I116: =G116+E116 -> -2526483303 | K116: 28290724 | M116: 61449688343 | O116: -39693859794 | Q116: =O116+M116 -> 21755828549
...

Sheet درآمد ناشی از فروش
A1: صندوق سرمایه گذاری سهامی اهرمی شتاب آگاه
A2: صورت وضعیت درآمدها
A3: ='درآمد ناشی از تغییر قیمت اوراق'!A3 -> ‫برای ماه منتهی به 1405/06/31
A5: 2-1-3سود(زیان) حاصل از فروش/اعمال وعدم اعمال اوراق بهادار
A6: شرح | C6: =جلد!C35 -> طی شهریور ماه 1405 | K6: =جلد!D35 -> از ابتدای سال مالی تا پایان شهریور ماه 1405
C7: تعداد | E7: خالص بهای فروش | G7: ارزش دفتری | I7: سود و زیان ناشی از فروش | K7: تعداد | M7: خالص بهای فروش | O7: ارزش دفتری | Q7: سود و زیان ناشی از فروش
E8: ریال | G8: ریال | I8: ریال | M8: ریال | O8: ریال | Q8: ریال
A9: انتقال داده های آسیاتک | C9: 0 | E9: 0 | G9: 0 | I9: 0 | K9: 128612910 | M9: 281604426696 | O9: -280226498694 | Q9: =O9+M9 -> 1377928002 | R9: =VLOOKUP(A9,'درآمد سرمایه گذاری در سهام '!$A$10:$Q$194,17,0) -> 1377928002
A10: ایران‌ ترانسفو | C10: 0 | E10: 0 | G10: 0 | I10: 0 | K10: 21868262 | M10: 60483905175 | O10: -49632317717 | Q10: =O10+M10 -> 10851587458 | R10: =VLOOKUP(A10,'درآمد سرمایه گذاری در سهام '!$A$10:$Q$194,17,0) -> 10851587458
A11: ایران‌ خودرو | C11: 48000000 | E11: 31720887466 | G11: -28253067332 | I11: 3467820134 | K11: 59200000 | M11: 37236730031 | O11: -33488974341 | Q11: =O11+M11 -> 3747755690 | R11: =VLOOKUP(A11,'درآمد سرمایه گذاری در سهام '!$A$10:$Q$194,17,0) -> 3747755690
A12: ایمن خودرو شرق | C12: 0 | E12: 0 | G12: 0 | I12: 0 | K12: 54843104 | M12: 162074132251 | O12: -141478885377 | Q12: =O12+M12 -> 20595246874 | R12: =VLOOKUP(A12,'درآمد سرمایه گذاری در سهام '!$A$10:$Q$194,17,0) -> 20595246874
A13: آکو باتری ایرانیان | C13: 305 | E13: 12302417 | G13: -9975794 | I13: 2326623 | K13: 305 | M13: 12302417 | O13: -9975794 | Q13: =O13+M13 -> 2326623 | R13: =VLOOKUP(A13,'درآمد سرمایه گذاری در سهام '!$A$10:$Q$194,17,0) -> 2326623
A14: آلومینیوم‌ایران‌ | C14: 5700000 | E14: 81841066363 | G14: -35285200674 | I14: 46555865689 | K14: 23700000 | M14: 184183794735 | O14: -133972919149 | Q14: =O14+M14 -> 50210875586 | R14: =VLOOKUP(A14,'درآمد سرمایه گذاری در سهام '!$A$10:$Q$194,17,0) -> 50210875586
A15: بانک خاورمیانه | C15: 0 | E15: 0 | G15: 0 | I15: 0 | K15: 6400000 | M15: 16850325561 | O15: -16570621027 | Q15: =O15+M15 -> 279704534 | R15: =VLOOKUP(A15,'درآمد سرمایه گذاری در سهام '!$A$10:$Q$194,17,0) -> 279704534
A16: بانک سامان | C16: 7520000 | E16: 60689630022 | G16: -25682611585 | I16: 35007018437 | K16: 9320000 | M16: 74996178882 | O16: -31831760737 | Q16: =O16+M16 -> 43164418145 | R16: =VLOOKUP(A16,'درآمد سرمایه گذاری در سهام '!$A$10:$Q$194,17,0) -> 43164418145
A17: بانک سینا | C17: 0 | E17: 0 | G17: 0 | I17: 0 | K17: 63600001 | M17: 162611620913 | O17: -117483784333 | Q17: =O17+M17 -> 45127836580 | R17: =VLOOKUP(A17,'درآمد سرمایه گذاری در سهام '!$A$10:$Q$194,17,0) -> 45127836580
A18: بانک ملت | C18: 76000000 | E18: 112112618741 | G18: -78160899940 | I18: 33951718801 | K18: 286800012 | M18: 361896632247 | O18: -272792530509 | Q18: =O18+M18 -> 89104101738 | R18: =VLOOKUP(A18,'درآمد سرمایه گذاری در سهام '!$A$10:$Q$194,17,0) -> 89104101738
A19: بانک‌اقتصادنوین‌ | C19: 4 | E19: 4 | G19: -8167 | I19: -8163 | K19: 14000004 | M19: 28950469664 | O19: -27891440517 | Q19: =O19+M19 -> 1059029147 | R19: =VLOOKUP(A19,'درآمد سرمایه گذاری در سهام '!$A$10:$Q$194,17,0) -> 1059029147
A20: بورس کالای ایران | C20: 31809381 | E20: 344746443079 | G20: -132411623667 | I20: 212334819412 | K20: 192367323 | M20: 1679353705242 | O20: -1185036484470 | Q20: =O20+M20 -> 494317220772 | R20: =VLOOKUP(A20,'درآمد سرمایه گذاری در سهام '!$A$10:$Q$194,17,0) -> 494317220772
... A93: نفت سپاهان | C93: 100000 | E93: 2068934547 | G93: -1033512793 | I93: 1035421754 | K93: 600000 | M93: 11192857302 | O93: -6164616094 | Q93: =O93+M93 -> 5028241208 | R93: =VLOOKUP(A93,'درآمد سرمایه گذاری در سهام '!$A$10:$Q$194,17,0) -> 5028241208
A94: شمش طلا GoldBar | C94: 0 | E94: 0 | G94: 0 | K94: 44887 | M94: 1071530034630 | O94: -1106602897637 | Q94: =O94+M94 -> -35072863007 | R94: -35072863007
A95: گندله سنگ آهن IronOrePlt | C95: 0 | E95: 0 | G95: 0 | K95: 4 | M95: 505706 | O95: -343198 | Q95: =O95+M95 -> 162508 | R95: 162508
A96: اختیارخ خودرو-550-1405/06/04 | C96: 57000000 | E96: 30769664475 | G96: -29855028948 | I96: 914635527 | K96: 57000000 | M96: 30769664475 | O96: -29855028948 | Q96: =O96+M96 -> 914635527 | R96: =VLOOKUP(A96,'درآمد سرمایه گذاری در سهام '!$A$10:$Q$194,17,0) -> 914635527
A97: اختیارخ خودرو-600-1405/06/04 | C97: 125492000 | E97: 75280058900 | G97: -73333078400 | I97: 1946980500 | K97: 125492000 | M97: 75280058900 | O97: -73333078400 | Q97: =O97+M97 -> 1946980500 | R97: =VLOOKUP(A97,'درآمد سرمایه گذاری در سهام '!$A$10:$Q$194,17,0) -> 1946980500
A98: اختیارخ شپنا-10000-1405/04/17 | C98: 0 | E98: 0 | G98: 0 | I98: 0 | K98: 14544000 | M98: 141536160000 | O98: -140492578745 | Q98: =O98+M98 -> 1043581255 | R98: =VLOOKUP(A98,'درآمد سرمایه گذاری در سهام '!$A$10:$Q$194,17,0) -> 1043581255
